BEGIN:VCALENDAR
PRODID:-//www.cheesesociety.luna.dynamicservr.com//EN
VERSION:2.0
METHOD:PUBLISH
BEGIN:VEVENT
DTSTART;TZID=America/New_York:20260501T900
DTEND;TZID=America/New_York:20260501T1700
URL:https://www.cheesesociety.luna.dynamicservr.com/resources/industry-calendar/vermont-artisan-cheesemakers-conference
SUMMARY:Vermont Artisan Cheesemakers Conference
LOCATION:
DESCRIPTION:Vermont Cheese Council invites you to our 2026 Artisan Cheesemakers Conference! &quot;Storytelling&quot; is the theme of this year’s conference, with in-person all-day programming.  While content is specifically geared toward cheesemakers, it’s open to all: makers, mongers, chefs, retailers, industry folk, and food producers of all flavors!
END:VEVENT
END:VCALENDAR